BEGIN:VCALENDAR
VERSION:2.0
PRODID:-//NJ Palestine Support News - ECPv6.3.2//NONSGML v1.0//EN
CALSCALE:GREGORIAN
METHOD:PUBLISH
X-WR-CALNAME:NJ Palestine Support News
X-ORIGINAL-URL:https://fightbackbetter.com
X-WR-CALDESC:Events for NJ Palestine Support News
REFRESH-INTERVAL;VALUE=DURATION:PT1H
X-Robots-Tag:noindex
X-PUBLISHED-TTL:PT1H
BEGIN:VTIMEZONE
TZID:UTC
BEGIN:STANDARD
TZOFFSETFROM:+0000
TZOFFSETTO:+0000
TZNAME:UTC
DTSTART:20240101T000000
END:STANDARD
TZID:America/New_York
BEGIN:DAYLIGHT
TZOFFSETFROM:-0500
TZOFFSETTO:-0400
TZNAME:EDT
DTSTART:20240310T070000
END:DAYLIGHT
BEGIN:STANDARD
TZOFFSETFROM:-0400
TZOFFSETTO:-0500
TZNAME:EST
DTSTART:20241103T060000
END:STANDARD
END:VTIMEZONE
BEGIN:VEVENT
DTSTART;TZID=UTC:20240203T193000
DTEND;TZID=UTC:20240203T193000
DTSTAMP:20260423T143629
CREATED:20240131T072146Z
LAST-MODIFIED:20240131T072236Z
UID:7028-1706988600-1706988600@fightbackbetter.com
SUMMARY:Dr. Hatem Bazian\, AMP Founder Speaks on The March Toward Decolonization\, Sat. Feb 3 7:30 pm North Brunswick\, NJ
DESCRIPTION:  \n\n\n  \n\n\n\n\n\n\n\n\n\n\nView this post on Instagram\n\n\n\n\n\n\n\n\n\n\n\n\n\n\n\n\n\n\n\n\n\n\n  \nA post shared by American Muslims for Palestine – NJ (@amp_newjersey)
URL:https://fightbackbetter.com/event/dr-hatem-bazian-amp-founder-speaks-on-the-march-toward-decolonization-sat-feb-3-730-pm-north-brunswick-nj/
LOCATION:NB Islamic Center\, 1330 Livingston Av\, North Brunswick\, NJ\, 08902
END:VEVENT
BEGIN:VEVENT
DTSTART;TZID=America/New_York:20240201T190000
DTEND;TZID=America/New_York:20240201T190000
DTSTAMP:20260423T143629
CREATED:20240129T031540Z
LAST-MODIFIED:20240129T031701Z
UID:6887-1706814000-1706814000@fightbackbetter.com
SUMMARY:SAJR Scientific: From Crisis to Hope\, Hosted by Palestinian American Community Center Clifton NJ
DESCRIPTION:  \n\n\n\n\n\n\n\n\n\n\nView this post on Instagram\n\n\n\n\n\n\n\n\n\n\n\n\n\n\n\n\n\n\n\n\n\n\n  \nA post shared by Palestinian American CC (@paccusa)
URL:https://fightbackbetter.com/event/sajr-scientific-from-crisis-to-hope-hosted-by-palestinian-american-community-center-clifton-nj/
LOCATION:Palestinian American Community Center Clifton NJ\, 388 Lakeview AV\, Clifton\, New Jersey\, 07011
END:VEVENT
BEGIN:VEVENT
DTSTART;TZID=America/New_York:20240201T163000
DTEND;TZID=America/New_York:20240201T183000
DTSTAMP:20260423T143629
CREATED:20240127T195836Z
LAST-MODIFIED:20240127T195836Z
UID:6662-1706805000-1706812200@fightbackbetter.com
SUMMARY:Palestinian History Teach-In
DESCRIPTION:  \n\n\n\n\n\n\n\n\n\n\nView this post on Instagram\n\n\n\n\n\n\n\n\n\n\n\n\n\n\n\n\n\n\n\n\n\n\n  \nA post shared by Montclair SJP (@montclairsjp)
URL:https://fightbackbetter.com/event/msusjp_palestinianhistoryteachin/
LOCATION:Montclair State U Student Center Dining Room\, 1 Normal Ave\, Montclair\, NJ\, 07043\, United States
END:VEVENT
END:VCALENDAR